BEGIN:VCALENDAR
VERSION:2.0
PRODID:-//The Bruce Company - Middleton WI - ECPv6.15.14//NONSGML v1.0//EN
CALSCALE:GREGORIAN
METHOD:PUBLISH
X-ORIGINAL-URL:https://www.brucecompany.com
X-WR-CALDESC:Events for The Bruce Company - Middleton WI
REFRESH-INTERVAL;VALUE=DURATION:PT1H
X-Robots-Tag:noindex
X-PUBLISHED-TTL:PT1H
BEGIN:VTIMEZONE
TZID:America/Chicago
BEGIN:DAYLIGHT
TZOFFSETFROM:-0600
TZOFFSETTO:-0500
TZNAME:CDT
DTSTART:20250309T080000
END:DAYLIGHT
BEGIN:STANDARD
TZOFFSETFROM:-0500
TZOFFSETTO:-0600
TZNAME:CST
DTSTART:20251102T070000
END:STANDARD
BEGIN:DAYLIGHT
TZOFFSETFROM:-0600
TZOFFSETTO:-0500
TZNAME:CDT
DTSTART:20260308T080000
END:DAYLIGHT
BEGIN:STANDARD
TZOFFSETFROM:-0500
TZOFFSETTO:-0600
TZNAME:CST
DTSTART:20261101T070000
END:STANDARD
BEGIN:DAYLIGHT
TZOFFSETFROM:-0600
TZOFFSETTO:-0500
TZNAME:CDT
DTSTART:20270314T080000
END:DAYLIGHT
BEGIN:STANDARD
TZOFFSETFROM:-0500
TZOFFSETTO:-0600
TZNAME:CST
DTSTART:20271107T070000
END:STANDARD
END:VTIMEZONE
BEGIN:VEVENT
DTSTART;TZID=America/Chicago:20260307T110000
DTEND;TZID=America/Chicago:20260307T120000
DTSTAMP:20260421T172858
CREATED:20260211T185851Z
LAST-MODIFIED:20260211T185851Z
UID:25065-1772881200-1772884800@www.brucecompany.com
SUMMARY:Create Your Own Succulent Garden Workshop
DESCRIPTION:If your Achilles’ heel is under-watering\, then gardening with succulents is perfect for you. Join us and we’ll help you create your own succulent container with plants and decorative stones and mosses. All supplies are included and pre-registration is required. There is a $45 fee payable on the day of the workshop. \n\n\n                 \n \n                        Register here - Would You Like to Attend this Event?\n			\n				\n				YES!\n			\n			\n				\n				No\n			Registration FormName*\n                            \n                            \n                                                    \n                                                    First\n                                                \n                            \n                            \n                                                    \n                                                    Last\n                                                \n                            \n                        Address    \n                    \n                         \n                                        \n                                        Street Address\n                                    \n                                        \n                                        Address Line 2\n                                    \n                                    \n                                    City\n                                 \n                                        AlabamaAlaskaAmerican SamoaArizonaArkansasCaliforniaColoradoConnecticutDelawareDistrict of ColumbiaFloridaGeorgiaGuamHawaiiIdahoIllinoisIndianaIowaKansasKentuckyLouisianaMaineMarylandMassachusettsMichiganMinnesotaMississippiMissouriMontanaNebraskaNevadaNew HampshireNew JerseyNew MexicoNew YorkNorth CarolinaNorth DakotaNorthern Mariana IslandsOhioOklahomaOregonPennsylvaniaPuerto RicoRhode IslandSouth CarolinaSouth DakotaTennesseeTexasUtahU.S. Virgin IslandsVermontVirginiaWashingtonWest VirginiaWisconsinWyomingArmed Forces AmericasArmed Forces EuropeArmed Forces Pacific\n                                        State\n                                      \n                                    \n                                    ZIP Code\n                                \n                    \n                Phone*Email*Number Attending?*List the Kids AttendingCAPTCHA
URL:https://www.brucecompany.com/event/create-your-own-succulent-garden-workshop/
LOCATION:The Bruce Company Garden Center\, 2830 Parmenter St.\, Middleton\, WI\, 53562\, United States
CATEGORIES:Garden Center Events
ATTACH;FMTTYPE=image/jpeg:https://www.brucecompany.com/wp-content/uploads/SUCCULENT-GARDEN-2.jpg
END:VEVENT
BEGIN:VEVENT
DTSTART;TZID=America/Chicago:20260307T120000
DTEND;TZID=America/Chicago:20260307T140000
DTSTAMP:20260421T172858
CREATED:20260225T144137Z
LAST-MODIFIED:20260225T170912Z
UID:25134-1772884800-1772892000@www.brucecompany.com
SUMMARY:Doggo Meet and Greet / 03-07-2026
DESCRIPTION:Puppy Love is Back at The Bruce Company!\nWhen Fetch Rescue Wisconsin—our 2025 charitable partner—would visit us with their adorable dogs and puppies\, it was pure joy. You loved it\, and so did we! \nSo we’re bringing back the fan-favorite Meet & Greets!\nThis is a FREE event. No pre-registration required. Just show up and soak up the sweetness. \nFetch Rescue Wisconsin is a foster-based nonprofit dedicated to saving dogs from high-risk shelters and giving them a second chance at life through loving foster homes and thoughtful adoptions. Their mission is to rescue\, rehabilitate\, and rehome dogs across Wisconsin. \nCome and cuddle with pups\, and maybe find your newest family member.
URL:https://www.brucecompany.com/event/doggo-meet-and-greet-03-07-2026/
LOCATION:The Bruce Company Garden Center\, 2830 Parmenter St.\, Middleton\, WI\, 53562\, United States
CATEGORIES:Garden Center Events
ATTACH;FMTTYPE=image/jpeg:https://www.brucecompany.com/wp-content/uploads/EVENTS-BANNER-3.jpg
END:VEVENT
END:VCALENDAR