BEGIN:VCALENDAR
VERSION:2.0
PRODID:-//The Bruce Company - Middleton WI - ECPv6.15.14//NONSGML v1.0//EN
CALSCALE:GREGORIAN
METHOD:PUBLISH
X-ORIGINAL-URL:https://www.brucecompany.com
X-WR-CALDESC:Events for The Bruce Company - Middleton WI
REFRESH-INTERVAL;VALUE=DURATION:PT1H
X-Robots-Tag:noindex
X-PUBLISHED-TTL:PT1H
BEGIN:VTIMEZONE
TZID:America/Chicago
BEGIN:DAYLIGHT
TZOFFSETFROM:-0600
TZOFFSETTO:-0500
TZNAME:CDT
DTSTART:20250309T080000
END:DAYLIGHT
BEGIN:STANDARD
TZOFFSETFROM:-0500
TZOFFSETTO:-0600
TZNAME:CST
DTSTART:20251102T070000
END:STANDARD
BEGIN:DAYLIGHT
TZOFFSETFROM:-0600
TZOFFSETTO:-0500
TZNAME:CDT
DTSTART:20260308T080000
END:DAYLIGHT
BEGIN:STANDARD
TZOFFSETFROM:-0500
TZOFFSETTO:-0600
TZNAME:CST
DTSTART:20261101T070000
END:STANDARD
BEGIN:DAYLIGHT
TZOFFSETFROM:-0600
TZOFFSETTO:-0500
TZNAME:CDT
DTSTART:20270314T080000
END:DAYLIGHT
BEGIN:STANDARD
TZOFFSETFROM:-0500
TZOFFSETTO:-0600
TZNAME:CST
DTSTART:20271107T070000
END:STANDARD
END:VTIMEZONE
BEGIN:VEVENT
DTSTART;TZID=America/Chicago:20260328T110000
DTEND;TZID=America/Chicago:20260328T130000
DTSTAMP:20260421T172858
CREATED:20260211T143605Z
LAST-MODIFIED:20260316T162204Z
UID:25053-1774695600-1774702800@www.brucecompany.com
SUMMARY:Free Garden Design Consultation / 03-28-2026 is FULL
DESCRIPTION:Get ready for spring projects with a little advice from our award winning landscape designers. Register for a 15 minute consultation and bring photos\, measurements and your questions. We’ll provide the answers and ideas. The consultations are free\, but pre-registration is required.
URL:https://www.brucecompany.com/event/free-garden-design-consultation-03-28-2026/
LOCATION:The Bruce Company Garden Center\, 2830 Parmenter St.\, Middleton\, WI\, 53562\, United States
CATEGORIES:Garden Center Events
ATTACH;FMTTYPE=image/jpeg:https://www.brucecompany.com/wp-content/uploads/FFEX-EVENT-2-2-scaled.jpeg
END:VEVENT
END:VCALENDAR